BEGIN:VCALENDAR
VERSION:2.0
PRODID:-//Squarespace Inc/Squarespace 6//v6//EN
BEGIN:VEVENT
UID:5ff598d010b8ec33bb96e568@squarespace.com
DTSTAMP:20210106T110253Z
DTSTART:20210207T103000Z
DTEND:20210207T113000Z
SUMMARY:Sassafras: A Gypsy Swing Soireé
GEO:-31.946659;115.864289
LOCATION:The Ellington Jazz Club Perth
END:VEVENT
END:VCALENDAR
