BEGIN:VCALENDAR
VERSION:2.0
PRODID:-//Squarespace Inc/Squarespace 6//v6//EN
BEGIN:VEVENT
UID:5ff5990be9a1c0799c67f421@squarespace.com
DTSTAMP:20210106T110348Z
DTSTART:20210211T103000Z
DTEND:20210211T113000Z
SUMMARY:Sassafras: A Gypsy Swing Soireé 
GEO:-31.946659;115.864289
LOCATION:The Ellington Jazz Club Perth
END:VEVENT
END:VCALENDAR
