BEGIN:VCALENDAR
VERSION:2.0
PRODID:-//Squarespace Inc/Squarespace 6//v6//EN
BEGIN:VEVENT
UID:5ff5991fc671817a36aa3d68@squarespace.com
DTSTAMP:20210106T110409Z
DTSTART:20210212T103000Z
DTEND:20210212T113000Z
SUMMARY:Sassafras: A Gypsy Swing Soireé  
GEO:-31.946659;115.864289
LOCATION:The Ellington Jazz Club Perth
END:VEVENT
END:VCALENDAR
