BEGIN:VCALENDAR
VERSION:2.0
PRODID:-//Squarespace Inc/Squarespace 6//v6//EN
BEGIN:VEVENT
UID:5ff5979d2677a963ff5e5c08@squarespace.com
DTSTAMP:20210106T105743Z
DTSTART:20210207T123000Z
DTEND:20210207T133000Z
SUMMARY:Jessie Gordon Presents
GEO:-31.946659;115.864289
LOCATION:The Ellington Jazz Club Perth
END:VEVENT
END:VCALENDAR
