BEGIN:VCALENDAR
VERSION:2.0
PRODID:-//Squarespace Inc/Squarespace 6//v6//EN
BEGIN:VEVENT
UID:5ff59808ada5017f0b0198c4@squarespace.com
DTSTAMP:20210106T105929Z
DTSTART:20210212T123000Z
DTEND:20210212T133000Z
SUMMARY:Jessie Gordon Presents
GEO:-31.946659;115.864289
LOCATION:The Ellington Jazz Club Perth
END:VEVENT
END:VCALENDAR
