BEGIN:VCALENDAR
VERSION:2.0
PRODID:-//Squarespace Inc/Squarespace 6//v6//EN
BEGIN:VEVENT
UID:5ff5963dc0e43812a5fbbb3f@squarespace.com
DTSTAMP:20210106T105342Z
DTSTART:20210130T143000Z
DTEND:20210130T155900Z
SUMMARY:Fairly Average Dance Party 
GEO:-31.946659;115.864289
LOCATION:The Ellington Jazz Club Perth
END:VEVENT
END:VCALENDAR
