BEGIN:VCALENDAR
VERSION:2.0
PRODID:-//Squarespace Inc/Squarespace 6//v6//EN
BEGIN:VEVENT
UID:5ff596b69b223b029926fbc5@squarespace.com
DTSTAMP:20210106T105403Z
DTSTART:20210206T143000Z
DTEND:20210206T155900Z
SUMMARY:Fairly Average Dance Party
GEO:-31.946659;115.864289
LOCATION:The Ellington Jazz Club Perth
END:VEVENT
END:VCALENDAR
