BEGIN:VCALENDAR
VERSION:2.0
PRODID:-//Squarespace Inc/Squarespace 6//v6//EN
BEGIN:VEVENT
UID:5ff595b341d6c11ba30dd034@squarespace.com
DTSTAMP:20210106T104943Z
DTSTART:20210119T114500Z
DTEND:20210119T124500Z
SUMMARY:Ballads\, Banksias and Beauty at Fringe World  
GEO:-31.956484;115.875825
LOCATION:Girls School Perth
END:VEVENT
END:VCALENDAR
