BEGIN:VCALENDAR
VERSION:2.0
PRODID:-//Squarespace Inc/Squarespace 6//v6//EN
BEGIN:VEVENT
UID:5ff595ca4a75100d8b678fb3@squarespace.com
DTSTAMP:20210106T104958Z
DTSTART:20210120T114500Z
DTEND:20210120T124500Z
SUMMARY:Ballads\, Banksias and Beauty at Fringe World
GEO:-31.956484;115.875825
LOCATION:Girls School Perth
END:VEVENT
END:VCALENDAR
