BEGIN:VCALENDAR
VERSION:2.0
PRODID:-//Squarespace Inc/Squarespace 6//v6//EN
BEGIN:VEVENT
UID:5ff59623ada5017f0b01650b@squarespace.com
DTSTAMP:20210106T105127Z
DTSTART:20210125T114500Z
DTEND:20210125T124500Z
SUMMARY:Ballads\, Banksias and Beauty at Fringe World 
GEO:-31.956484;115.875825
LOCATION:Girls School Perth
END:VEVENT
END:VCALENDAR
