BEGIN:VCALENDAR
VERSION:2.0
PRODID:-//Squarespace Inc/Squarespace 6//v6//EN
BEGIN:VEVENT
UID:5728500f2fe1316acb16dd9f@squarespace.com
DTSTAMP:20160503T072402Z
DTSTART:20160602T113000Z
DTEND:20160602T143000Z
SUMMARY:Jessie Gordon Trio at Laneway Lounge
GEO:-31.950938;115.853514
LOCATION:Laneway Lounge\, 414 Murray Street\, Perth\, WA\, 6000\, Australia
END:VEVENT
END:VCALENDAR
