BEGIN:VCALENDAR
VERSION:2.0
PRODID:-//Squarespace Inc/Squarespace 6//v6//EN
BEGIN:VEVENT
UID:57284db72fe1316acb16d61a@squarespace.com
DTSTAMP:20160503T071514Z
DTSTART:20160526T110000Z
DTEND:20160526T130000Z
SUMMARY:Jessie Gordon Duo at Swallow Bar
GEO:-31.92853;115.89268
LOCATION:Swallow Bar\, 198 Whatley Crescent\, Maylands\, WA\, 6051\, Austra
 lia
END:VEVENT
END:VCALENDAR
