BEGIN:VCALENDAR
VERSION:2.0
PRODID:-//Squarespace Inc/Squarespace 6//v6//EN
BEGIN:VEVENT
UID:5728378a859fd02147b35e21@squarespace.com
DTSTAMP:20160503T070242Z
DTSTART:20160522T120000Z
DTEND:20160522T140000Z
SUMMARY:Apocalypse Lounge at The Moon
GEO:-31.945955;115.860915
LOCATION:The Moon\, 323 William Street\, Perth\, WA\, 6000\, Australia
END:VEVENT
END:VCALENDAR
