BEGIN:VCALENDAR
VERSION:2.0
PRODID:-//Squarespace Inc/Squarespace 6//v6//EN
BEGIN:VEVENT
UID:56de471f20c6470c194cfb8c@squarespace.com
DTSTAMP:20160308T040506Z
DTSTART:20160403T090000Z
DTEND:20160403T110000Z
SUMMARY:JG Duo at Swallow Bar
GEO:-31.92853;115.89268
LOCATION:Swallow Bar\, 198 Whatley Crescent\, Maylands\, WA\, 6051\, Austra
 lia
END:VEVENT
END:VCALENDAR
