BEGIN:VCALENDAR
VERSION:2.0
PRODID:-//Squarespace Inc/Squarespace 6//v6//EN
BEGIN:VEVENT
UID:5716117fd51cd48f82ae4192@squarespace.com
DTSTAMP:20160419T111001Z
DTSTART:20160423T103000Z
DTEND:20160423T113000Z
SUMMARY:Darling Buds of May @ Subiaco Street Festival
END:VEVENT
END:VCALENDAR
