BEGIN:VCALENDAR
VERSION:2.0
PRODID:-//Squarespace Inc/Squarespace 6//v6//EN
BEGIN:VEVENT
UID:56de4546859fd00a29467d36@squarespace.com
DTSTAMP:20160308T040438Z
DTSTART:20160331T110000Z
DTEND:20160331T130000Z
SUMMARY:JG Duo at Swallow Bar
GEO:-31.92853;115.89268
LOCATION:Swallow Bar\, 198 Whatley Crescent\, Maylands\, WA\, 6051\, Austra
 lia
END:VEVENT
END:VCALENDAR
