BEGIN:VCALENDAR
VERSION:2.0
PRODID:-//Squarespace Inc/Squarespace 6//v6//EN
BEGIN:VEVENT
UID:56de51d7e321400514f6fcb7@squarespace.com
DTSTAMP:20160310T064108Z
DTSTART:20160421T110000Z
DTEND:20160421T140000Z
SUMMARY:Sassafras at The Ellington
GEO:-31.946701;115.864084
LOCATION:The Ellington Jazz Club\, 191 Beaufort Street\, Perth\, WA\, 6000\
 , Australia
END:VEVENT
END:VCALENDAR
