BEGIN:VCALENDAR
VERSION:2.0
PRODID:-//Squarespace Inc/Squarespace 6//v6//EN
BEGIN:VEVENT
UID:56de4a52f85082f3f74e8051@squarespace.com
DTSTAMP:20160418T051142Z
DTSTART:20160423T120000Z
DTEND:20160423T140000Z
SUMMARY:Jessie and The Well Adjusted Sociopaths
GEO:-32.006806;115.758525
LOCATION:Rodney's Bait and Tackle\, 598 Stirling Highway\, Mosman Park\, WA
 \, 6012\, Australia
END:VEVENT
END:VCALENDAR
