BEGIN:VCALENDAR
VERSION:2.0
PRODID:-//Squarespace Inc/Squarespace 6//v6//EN
BEGIN:VEVENT
UID:56de5051e321400514f6f394@squarespace.com
DTSTAMP:20160308T040941Z
DTSTART:20160428T110000Z
DTEND:20160428T130000Z
SUMMARY:JG Duo at Swallow Bar
GEO:-31.92853;115.89268
LOCATION:Swallow Bar\, 198 Whatley Crescent\, Maylands\, WA\, 6051\, Austra
 lia
END:VEVENT
END:VCALENDAR
