BEGIN:VCALENDAR
VERSION:2.0
PRODID:-//Squarespace Inc/Squarespace 6//v6//EN
BEGIN:VEVENT
UID:56de68cd4d088eec19573a1b@squarespace.com
DTSTAMP:20160310T064219Z
DTSTART:20160429T110000Z
DTEND:20160429T140000Z
SUMMARY:Fever: The Music of Peggy Lee
GEO:-31.946701;115.864084
LOCATION:The Ellington Jazz Club\, 191 Beaufort Street\, Perth\, WA\, 6000\
 , Australia
END:VEVENT
END:VCALENDAR
