BEGIN:VCALENDAR
VERSION:2.0
PRODID:-//Squarespace Inc/Squarespace 6//v6//EN
BEGIN:VEVENT
UID:56dd5284d210b82151198e13@squarespace.com
DTSTAMP:20160310T042708Z
DTSTART:20160318T150000Z
DTEND:20160318T155900Z
SUMMARY:JG Dirty Blues Trio
GEO:-31.930774;115.858798
LOCATION:Rosemount Hotel\, 459 Fitzgerald Street\, North Perth\, WA\, 6006\
 , Australia
END:VEVENT
END:VCALENDAR
